BEGIN:VCALENDAR
VERSION:2.0
PRODID:-// - ECPv6.15.20//NONSGML v1.0//EN
CALSCALE:GREGORIAN
METHOD:PUBLISH
X-ORIGINAL-URL:https://scaba.co.uk
X-WR-CALDESC:Events for 
REFRESH-INTERVAL;VALUE=DURATION:PT1H
X-Robots-Tag:noindex
X-PUBLISHED-TTL:PT1H
BEGIN:VTIMEZONE
TZID:Europe/London
BEGIN:DAYLIGHT
TZOFFSETFROM:+0000
TZOFFSETTO:+0100
TZNAME:BST
DTSTART:20240331T010000
END:DAYLIGHT
BEGIN:STANDARD
TZOFFSETFROM:+0100
TZOFFSETTO:+0000
TZNAME:GMT
DTSTART:20241027T010000
END:STANDARD
BEGIN:DAYLIGHT
TZOFFSETFROM:+0000
TZOFFSETTO:+0100
TZNAME:BST
DTSTART:20250330T010000
END:DAYLIGHT
BEGIN:STANDARD
TZOFFSETFROM:+0100
TZOFFSETTO:+0000
TZNAME:GMT
DTSTART:20251026T010000
END:STANDARD
BEGIN:DAYLIGHT
TZOFFSETFROM:+0000
TZOFFSETTO:+0100
TZNAME:BST
DTSTART:20260329T010000
END:DAYLIGHT
BEGIN:STANDARD
TZOFFSETFROM:+0100
TZOFFSETTO:+0000
TZNAME:GMT
DTSTART:20261025T010000
END:STANDARD
END:VTIMEZONE
BEGIN:VEVENT
DTSTART;TZID=Europe/London:20250727T100000
DTEND;TZID=Europe/London:20250727T160000
DTSTAMP:20260421T122938
CREATED:20250715T151452Z
LAST-MODIFIED:20250715T154002Z
UID:18762-1753610400-1753632000@scaba.co.uk
SUMMARY:SCYB Family/Open Day
DESCRIPTION:Join us on Sunday 27th July to meet some of SCYB’s members and adult volunteers and have fun playing a wide range of music.  \nSCYB is open to all brass and percussion musicians aged from 11 – 21 – it doesn’t matter if your band is not a scaba member\, or if you don’t usually play in a brass band at all.  And everyone is welcome to our ‘family’ day – any age – so bring your brass or percussion playing family and friends along for a blow too!  \nDrinks will be provided but please bring your own lunch (or pop up to the High Street which has a good choice of food shops & cafes).\nThe Village Way car park\, by the Bandroom and Leisure Centre\, is free on Sundays.
URL:https://scaba.co.uk/event/scyb-family-open-day/
LOCATION:Cranleigh Bandroom\, Village Way\, Cranleigh\, Surrey\, GU6 8AF\, United Kingdom
ORGANIZER;CN="scaba":MAILTO:scabasecretary@gmail.com
END:VEVENT
END:VCALENDAR