BEGIN:VCALENDAR
VERSION:2.0
PRODID:-// - ECPv6.15.20//NONSGML v1.0//EN
CALSCALE:GREGORIAN
METHOD:PUBLISH
X-ORIGINAL-URL:https://scaba.co.uk
X-WR-CALDESC:Events for 
REFRESH-INTERVAL;VALUE=DURATION:PT1H
X-Robots-Tag:noindex
X-PUBLISHED-TTL:PT1H
BEGIN:VTIMEZONE
TZID:Europe/London
BEGIN:DAYLIGHT
TZOFFSETFROM:+0000
TZOFFSETTO:+0100
TZNAME:BST
DTSTART:20230326T010000
END:DAYLIGHT
BEGIN:STANDARD
TZOFFSETFROM:+0100
TZOFFSETTO:+0000
TZNAME:GMT
DTSTART:20231029T010000
END:STANDARD
BEGIN:DAYLIGHT
TZOFFSETFROM:+0000
TZOFFSETTO:+0100
TZNAME:BST
DTSTART:20240331T010000
END:DAYLIGHT
BEGIN:STANDARD
TZOFFSETFROM:+0100
TZOFFSETTO:+0000
TZNAME:GMT
DTSTART:20241027T010000
END:STANDARD
BEGIN:DAYLIGHT
TZOFFSETFROM:+0000
TZOFFSETTO:+0100
TZNAME:BST
DTSTART:20250330T010000
END:DAYLIGHT
BEGIN:STANDARD
TZOFFSETFROM:+0100
TZOFFSETTO:+0000
TZNAME:GMT
DTSTART:20251026T010000
END:STANDARD
END:VTIMEZONE
BEGIN:VEVENT
DTSTART;TZID=Europe/London:20241103T093000
DTEND;TZID=Europe/London:20241103T123000
DTSTAMP:20260422T225017
CREATED:20241002T201518Z
LAST-MODIFIED:20241017T202736Z
UID:18696-1730626200-1730637000@scaba.co.uk
SUMMARY:Foden's Youth Workshop - Cancelled
DESCRIPTION:It is with great regret that\, due to unforeseen circumstances\, scaba has had to cancel both the workshop and concert due to take place on Sunday 3rd November. \nWe will be in touch with everyone who has booked tickets to organise a refund.\nThank you for your understanding.
URL:https://scaba.co.uk/event/fodens-youth-workshop/
LOCATION:Alderwood School\, Tongham Road\, Aldershot\, Hampshire\, GU12 4AS\, United Kingdom
CATEGORIES:scaba Event,SCYB,Workshop
ORGANIZER;CN="scaba":MAILTO:scabasecretary@gmail.com
END:VEVENT
BEGIN:VEVENT
DTSTART;TZID=Europe/London:20241103T150000
DTEND;TZID=Europe/London:20241103T170000
DTSTAMP:20260422T225017
CREATED:20241002T201627Z
LAST-MODIFIED:20241017T202645Z
UID:18703-1730646000-1730653200@scaba.co.uk
SUMMARY:Foden's in Concert - Cancelled
DESCRIPTION:It is with great regret that\, due to unforeseen circumstances\, scaba has had to cancel both the workshop and concert due to take place on Sunday 3rd November. \nWe will be in touch with everyone who has booked tickets to organise a refund.\nThank you for your understanding.
URL:https://scaba.co.uk/event/scaba-presents-fodens-in-concert/
LOCATION:Princes Hall\, Princes Way\, Aldershot\, Hampshire\, GU11 1NX\, United Kingdom
CATEGORIES:Concert,scaba Event
ORGANIZER;CN="scaba":MAILTO:scabasecretary@gmail.com
END:VEVENT
BEGIN:VEVENT
DTSTART;TZID=Europe/London:20241103T150000
DTEND;TZID=Europe/London:20241103T170000
DTSTAMP:20260422T225017
CREATED:20241017T202522Z
LAST-MODIFIED:20241101T163228Z
UID:18722-1730646000-1730653200@scaba.co.uk
SUMMARY:Extraordinary General Meeting
DESCRIPTION:EGM on November 3rd 2024 to discuss the future of scaba\, your local Brass Band Association.\nThe meeting will be held at 3pm in Godalming Bandroom\, with a Zoom link for those who wish to contribute but are unable to attend in person. \nWe are asking bands in our region to help us with some big questions:  Who is scaba for?  What do local bands want or need from us?  Is there a need for a local Association any more?  If bands want a local Association\, what will they do to support it?  \nPlease do come along and join the conversation if you can. \nPlease see attached files:\n – Agenda including directions to Godalming bandroom and meeting Zoom link.\n – copy of results from 2017 survey of 200+ bands in the South East\n241103 scaba EGM Agenda\n2017 Survey report
URL:https://scaba.co.uk/event/egm_nov24/
LOCATION:Godalming Bandroom\, Broadwater Park\, Summers Road\, Godalming\, Surrey\, GU7 3BH\, United Kingdom
CATEGORIES:scaba Event,scaba Meeting
ORGANIZER;CN="scaba":MAILTO:scabasecretary@gmail.com
END:VEVENT
END:VCALENDAR