BEGIN:VCALENDAR
VERSION:2.0
PRODID:-// - ECPv6.15.20//NONSGML v1.0//EN
CALSCALE:GREGORIAN
METHOD:PUBLISH
X-ORIGINAL-URL:https://scaba.co.uk
X-WR-CALDESC:Events for 
REFRESH-INTERVAL;VALUE=DURATION:PT1H
X-Robots-Tag:noindex
X-PUBLISHED-TTL:PT1H
BEGIN:VTIMEZONE
TZID:Europe/London
BEGIN:DAYLIGHT
TZOFFSETFROM:+0000
TZOFFSETTO:+0100
TZNAME:BST
DTSTART:20230326T010000
END:DAYLIGHT
BEGIN:STANDARD
TZOFFSETFROM:+0100
TZOFFSETTO:+0000
TZNAME:GMT
DTSTART:20231029T010000
END:STANDARD
BEGIN:DAYLIGHT
TZOFFSETFROM:+0000
TZOFFSETTO:+0100
TZNAME:BST
DTSTART:20240331T010000
END:DAYLIGHT
BEGIN:STANDARD
TZOFFSETFROM:+0100
TZOFFSETTO:+0000
TZNAME:GMT
DTSTART:20241027T010000
END:STANDARD
BEGIN:DAYLIGHT
TZOFFSETFROM:+0000
TZOFFSETTO:+0100
TZNAME:BST
DTSTART:20250330T010000
END:DAYLIGHT
BEGIN:STANDARD
TZOFFSETFROM:+0100
TZOFFSETTO:+0000
TZNAME:GMT
DTSTART:20251026T010000
END:STANDARD
END:VTIMEZONE
BEGIN:VEVENT
DTSTART;TZID=Europe/London:20240927T193000
DTEND;TZID=Europe/London:20240927T220000
DTSTAMP:20260424T115329
CREATED:20240916T175444Z
LAST-MODIFIED:20240916T175716Z
UID:18684-1727465400-1727474400@scaba.co.uk
SUMMARY:Horsham Borough Band in Concert
DESCRIPTION:London & Southern Counties First Section Champions\, Horsham Borough Band\, enjoyed a superb performance in Cheltenham last weekend and secured 4th place in the First Section Final of the National Brass Band Championships of Great Britain.  \nThe band is now preparing for its next concert performance in Chichester on 27th September. If you’re in the area do come along and listen… you won’t be disappointed!
URL:https://scaba.co.uk/event/horsham-borough-band-in-concert/
LOCATION:St George’s Church\, 43 Cleveland Rd\, Whyke\, Chichester\, PO19 7AD\, United Kingdom
CATEGORIES:Concert,Member Band Event
END:VEVENT
END:VCALENDAR